BEGIN:VCALENDAR
VERSION:2.0
PRODID:spatie/icalendar-generator
DESCRIPTION:Veranstaltungen von ComputerClub Alzenau
X-WR-CALDESC:Veranstaltungen von ComputerClub Alzenau
REFRESH-INTERVAL;VALUE=DURATION:PT1440M
X-PUBLISHED-TTL:PT1440M
BEGIN:VTIMEZONE
TZID:Europe/Berlin
BEGIN:STANDARD
DTSTART:20241027T030000Z
TZOFFSETFROM:+0200
TZOFFSETTO:+0100
END:STANDARD
BEGIN:DAYLIGHT
DTSTART:20250330T020000Z
TZOFFSETFROM:+0100
TZOFFSETTO:+0200
END:DAYLIGHT
BEGIN:STANDARD
DTSTART:20251026T030000Z
TZOFFSETFROM:+0200
TZOFFSETTO:+0100
END:STANDARD
END:VTIMEZONE
BEGIN:VTIMEZONE
TZID:UTC
BEGIN:STANDARD
DTSTART:20250726T115540Z
TZOFFSETFROM:+0000
TZOFFSETTO:+0000
END:STANDARD
END:VTIMEZONE
BEGIN:VEVENT
UID:344-318
DTSTAMP:20260422T115540Z
SUMMARY:PC Anwender mit Windows 10 und 11
LOCATION:Schulungsraum Ringmauerstraße 16  63755 Alzenau - Hörstein
ORGANIZER;CN=Dietrich Mecke:MAILTO:dietrich.mecke@t-online.de
DTSTART;TZID=Europe/Berlin:20250508T150000
DTEND;TZID=Europe/Berlin:20250508T163000
X-ALT-DESC;FMTTYPE=TEXT/HTML:PC-Anwendeungen für Fortgeschrittene zur Beit
 ragsseite &amp;nbsp\;
CATEGORIES:PC-Kurse
URL;VALUE=URI:https://cc-alzenau.de/mc-events/pc-anwender-mit-windows-10-un
 d-11-4/
METHOD:PUBLISH
END:VEVENT
END:VCALENDAR