BEGIN:VCALENDAR
VERSION:2.0
PRODID:spatie/icalendar-generator
DESCRIPTION:Veranstaltungen von ComputerClub Alzenau
X-WR-CALDESC:Veranstaltungen von ComputerClub Alzenau
REFRESH-INTERVAL;VALUE=DURATION:PT1440M
X-PUBLISHED-TTL:PT1440M
BEGIN:VTIMEZONE
TZID:Europe/Berlin
BEGIN:STANDARD
DTSTART:20241027T030000Z
TZOFFSETFROM:+0200
TZOFFSETTO:+0100
END:STANDARD
BEGIN:DAYLIGHT
DTSTART:20250330T020000Z
TZOFFSETFROM:+0100
TZOFFSETTO:+0200
END:DAYLIGHT
BEGIN:STANDARD
DTSTART:20251026T030000Z
TZOFFSETFROM:+0200
TZOFFSETTO:+0100
END:STANDARD
END:VTIMEZONE
BEGIN:VTIMEZONE
TZID:UTC
BEGIN:STANDARD
DTSTART:20250726T100458Z
TZOFFSETFROM:+0000
TZOFFSETTO:+0000
END:STANDARD
END:VTIMEZONE
BEGIN:VEVENT
UID:322-298
DTSTAMP:20260422T100458Z
SUMMARY:PC für Anfänger
LOCATION:Schulungsraum Ringmauerstraße 16  63755 Alzenau - Hörstein
ORGANIZER;CN=Hans Kullmann:MAILTO:hans.kullmann@cc-alzenau.de
DTSTART;TZID=Europe/Berlin:20250527T160000
DTEND;TZID=Europe/Berlin:20250527T180000
X-ALT-DESC;FMTTYPE=TEXT/HTML:P002. Workshop: PC für Anfänger Der Kurs ver
 mittelt Grundkenntnisse im Umgang mit dem PC\, mit dem Betriebssystem Wind
 ows 11 und versch. Office-Programmen &amp;nbsp\; Zur Beitragsseite &amp;nbsp\;
CATEGORIES:PC-Kurse
URL;VALUE=URI:https://cc-alzenau.de/mc-events/pc-fuer-anfaenger-5/
METHOD:PUBLISH
END:VEVENT
END:VCALENDAR