BEGIN:VCALENDAR
VERSION:2.0
PRODID:spatie/icalendar-generator
DESCRIPTION:Veranstaltungen von ComputerClub Alzenau
X-WR-CALDESC:Veranstaltungen von ComputerClub Alzenau
REFRESH-INTERVAL;VALUE=DURATION:PT1440M
X-PUBLISHED-TTL:PT1440M
BEGIN:VTIMEZONE
TZID:Europe/Berlin
BEGIN:STANDARD
DTSTART:20241027T030000Z
TZOFFSETFROM:+0200
TZOFFSETTO:+0100
END:STANDARD
BEGIN:DAYLIGHT
DTSTART:20250330T020000Z
TZOFFSETFROM:+0100
TZOFFSETTO:+0200
END:DAYLIGHT
BEGIN:STANDARD
DTSTART:20251026T030000Z
TZOFFSETFROM:+0200
TZOFFSETTO:+0100
END:STANDARD
END:VTIMEZONE
BEGIN:VTIMEZONE
TZID:UTC
BEGIN:STANDARD
DTSTART:20250726T101805Z
TZOFFSETFROM:+0000
TZOFFSETTO:+0000
END:STANDARD
END:VTIMEZONE
BEGIN:VEVENT
UID:328-304
DTSTAMP:20260422T101805Z
SUMMARY:SmartPhone (Android) Gruppe 3
LOCATION:Schulungsraum Ringmauerstraße 16  63755 Alzenau - Hörstein
ORGANIZER;CN=Bernd Baldauf:MAILTO:kabeba40@gmail.com
DTSTART;TZID=Europe/Berlin:20250520T140000
DTEND;TZID=Europe/Berlin:20250520T150000
X-ALT-DESC;FMTTYPE=TEXT/HTML:Kurs S003 Der Anfänger-Workshop ist an Person
 en gerichtet\, die noch keine (oder Wenige) Vorkenntnisse mit dem Smsrtpho
 ne haben &amp;nbsp\; Zur Beitragsseite
CATEGORIES:SmartPhone
URL;VALUE=URI:https://cc-alzenau.de/mc-events/smartphone-android-gruppe-3-4
 /
METHOD:PUBLISH
END:VEVENT
END:VCALENDAR